BEGIN:VCALENDAR
VERSION:2.0
PRODID:-//Animal Rescue Cymru - ECPv6.15.20//NONSGML v1.0//EN
CALSCALE:GREGORIAN
METHOD:PUBLISH
X-WR-CALNAME:Animal Rescue Cymru
X-ORIGINAL-URL:https://www.animalrescuecymru.co.uk
X-WR-CALDESC:Events for Animal Rescue Cymru
REFRESH-INTERVAL;VALUE=DURATION:PT1H
X-Robots-Tag:noindex
X-PUBLISHED-TTL:PT1H
BEGIN:VTIMEZONE
TZID:UTC
BEGIN:STANDARD
TZOFFSETFROM:+0000
TZOFFSETTO:+0000
TZNAME:UTC
DTSTART:20240101T000000
END:STANDARD
END:VTIMEZONE
BEGIN:VEVENT
DTSTART;VALUE=DATE:20250802
DTEND;VALUE=DATE:20250803
DTSTAMP:20260421T092216
CREATED:20250402T132500Z
LAST-MODIFIED:20250402T132850Z
UID:7569-1754092800-1754179199@www.animalrescuecymru.co.uk
SUMMARY:CARDIGAN AGRICULTURAL SHOW
DESCRIPTION:West Wales Premier Agricultural Show\, with major livestock classes for cattle\, sheep\, pigs\, goats\, heavy and light horses and there’s vintage machinery too. So much to see! Plenty of stall including ARC’s\, so come & visit us & meet some of our dogs.
URL:https://www.animalrescuecymru.co.uk/event/cardigan-agricultural-show/
LOCATION:Briscwm Fields Cardigan What three words regaining.blaze.flask\, Briscwm Fields (off A487)\, Cardigan\, United Kingdom
CATEGORIES:Charity
END:VEVENT
BEGIN:VEVENT
DTSTART;VALUE=DATE:20250810
DTEND;VALUE=DATE:20250811
DTSTAMP:20260421T092216
CREATED:20250430T131132Z
LAST-MODIFIED:20250430T131208Z
UID:7638-1754784000-1754870399@www.animalrescuecymru.co.uk
SUMMARY:PAWSOME PLAYGROUND BIG DAY OUT
DESCRIPTION:Come & join us in Penparc on Sunday 10th August for a day of fun & entertainment\, & meet one or two of our rescue dogs. Open to the public at 11am
URL:https://www.animalrescuecymru.co.uk/event/pawsome-playground-big-day-out/
LOCATION:Penparc\, Nr  Cardigan\, United Kingdom
END:VEVENT
END:VCALENDAR