BEGIN:VCALENDAR
VERSION:2.0
PRODID:-//Animal Rescue Cymru - ECPv6.15.20//NONSGML v1.0//EN
CALSCALE:GREGORIAN
METHOD:PUBLISH
X-ORIGINAL-URL:https://www.animalrescuecymru.co.uk
X-WR-CALDESC:Events for Animal Rescue Cymru
REFRESH-INTERVAL;VALUE=DURATION:PT1H
X-Robots-Tag:noindex
X-PUBLISHED-TTL:PT1H
BEGIN:VTIMEZONE
TZID:UTC
BEGIN:STANDARD
TZOFFSETFROM:+0000
TZOFFSETTO:+0000
TZNAME:UTC
DTSTART:20230101T000000
END:STANDARD
END:VTIMEZONE
BEGIN:VEVENT
DTSTART;VALUE=DATE:20240824
DTEND;VALUE=DATE:20240825
DTSTAMP:20260425T211024
CREATED:20240806T095659Z
LAST-MODIFIED:20240806T095845Z
UID:7029-1724457600-1724543999@www.animalrescuecymru.co.uk
SUMMARY:TESCO STORE COLLECTION
DESCRIPTION:We will be holding a store collection at Tesco on Saturday 24th August – so pop up & meet us. If the weather is good-  we may have one or two of our dogs there.
URL:https://www.animalrescuecymru.co.uk/event/tesco-store-collection-2/
LOCATION:Tesco Store Cardigan\, Aberystwyth Road\, Cardigan\, SA43 1NA\, United Kingdom
CATEGORIES:Charity
END:VEVENT
END:VCALENDAR