BEGIN:VCALENDAR
VERSION:2.0
PRODID:-//Animal Rescue Cymru - ECPv6.15.20//NONSGML v1.0//EN
CALSCALE:GREGORIAN
METHOD:PUBLISH
X-ORIGINAL-URL:https://www.animalrescuecymru.co.uk
X-WR-CALDESC:Events for Animal Rescue Cymru
REFRESH-INTERVAL;VALUE=DURATION:PT1H
X-Robots-Tag:noindex
X-PUBLISHED-TTL:PT1H
BEGIN:VTIMEZONE
TZID:UTC
BEGIN:STANDARD
TZOFFSETFROM:+0000
TZOFFSETTO:+0000
TZNAME:UTC
DTSTART:20230101T000000
END:STANDARD
END:VTIMEZONE
BEGIN:VEVENT
DTSTART;VALUE=DATE:20240804
DTEND;VALUE=DATE:20240805
DTSTAMP:20260425T211446
CREATED:20240126T131734Z
LAST-MODIFIED:20240126T131734Z
UID:6522-1722729600-1722815999@www.animalrescuecymru.co.uk
SUMMARY:PAWSOME PLAYGROUNDS BIG DAY
DESCRIPTION:A lovely day out with los of things for your doggie to do. There will also be a dog show.
URL:https://www.animalrescuecymru.co.uk/event/pawsome-playgrounds-big-day/
LOCATION:Penparc\, Nr  Cardigan\, United Kingdom
CATEGORIES:Charity
END:VEVENT
END:VCALENDAR