BEGIN:VCALENDAR
VERSION:2.0
PRODID:-//Animal Rescue Cymru - ECPv6.15.20//NONSGML v1.0//EN
CALSCALE:GREGORIAN
METHOD:PUBLISH
X-WR-CALNAME:Animal Rescue Cymru
X-ORIGINAL-URL:https://www.animalrescuecymru.co.uk
X-WR-CALDESC:Events for Animal Rescue Cymru
REFRESH-INTERVAL;VALUE=DURATION:PT1H
X-Robots-Tag:noindex
X-PUBLISHED-TTL:PT1H
BEGIN:VTIMEZONE
TZID:UTC
BEGIN:STANDARD
TZOFFSETFROM:+0000
TZOFFSETTO:+0000
TZNAME:UTC
DTSTART:20230101T000000
END:STANDARD
END:VTIMEZONE
BEGIN:VEVENT
DTSTART;VALUE=DATE:20240921
DTEND;VALUE=DATE:20240922
DTSTAMP:20260425T182417
CREATED:20240131T150110Z
LAST-MODIFIED:20240813T090310Z
UID:6535-1726876800-1726963199@www.animalrescuecymru.co.uk
SUMMARY:Feel Good Family Fun Day
DESCRIPTION:Come along to this fabulous event & meet us there\,& some of our dogs. Something to do on the Bank Holiday weekend.
URL:https://www.animalrescuecymru.co.uk/event/feel-good-family-fun-day/
LOCATION:Harp Inn Letterston\, 31 Haverfordwest Rd\, Letterston\, Pembrokeshire\, SA62 5UA\, United Kingdom
CATEGORIES:Charity
END:VEVENT
END:VCALENDAR